BEGIN:VCALENDAR
VERSION:2.0
PRODID:-//ChamberMaster//Event Calendar 2.0//EN
METHOD:PUBLISH
X-PUBLISHED-TTL:P3D
REFRESH-INTERVAL:P3D
CALSCALE:GREGORIAN
BEGIN:VEVENT
DTSTART:20131109T230000Z
DTEND:20131110T003000Z
X-MICROSOFT-CDO-ALLDAYEVENT:FALSE
SUMMARY:Zumba Master Class with Special Guest Instructor Marquita Coppin
DESCRIPTION:This is a Master Class led by the incredible Marquita Coppin. Marquita is the "M" in the Hot Zumba dance group RMR.\n\nIf you can't make it to the largest Zumba event in Atlanta ZXplosion or just can't get enough come check her out!!\n\n\n\n90 minutes of hot \, new routines with moves you will love.\n\n\n\nLIMITED SPACE\n\n\n\nDo not miss this event\, Reserve your spot today.\n\n\n\n$10 early Bird \, $12 advance tickets and $15 at the door\n\nhttps://marquitafitnsassy.eventbrite.com/
X-ALT-DESC;FMTTYPE=text/html:This is a Master Class led by the incredible Marquita Coppin. Marquita is the &quot\;M&quot\; in the Hot Zumba dance group RMR.<br />\nIf you can&#39\;t make it to the largest Zumba event in Atlanta ZXplosion or just can&#39\;t get enough come check her out!!<br />\n<br />\n90 minutes of hot \, new routines with moves you will love.<br />\n<br />\nLIMITED SPACE<br />\n<br />\nDo not miss this event\, Reserve your spot today.<br />\n<br />\n$10 early Bird \, $12 advance tickets and $15 at the door<br />\nhttps://marquitafitnsassy.eventbrite.com/
LOCATION:Fit & Sassy Fitness Studio 8108 Washington Street \, Covington Ga 30014
UID:e.1627.87
SEQUENCE:3
DTSTAMP:20260419T182444Z
URL:https://business.newtonchamber.com/events/details/zumba-master-class-with-special-guest-instructor-marquita-coppin-11-09-2013-87
END:VEVENT

END:VCALENDAR
