BEGIN:VCALENDAR
VERSION:2.0
PRODID:-//ChamberMaster//Event Calendar 2.0//EN
METHOD:PUBLISH
X-PUBLISHED-TTL:P3D
REFRESH-INTERVAL:P3D
CALSCALE:GREGORIAN
BEGIN:VEVENT
DTSTART:20140125T233000Z
DTEND:20140126T010000Z
X-MICROSOFT-CDO-ALLDAYEVENT:FALSE
SUMMARY:Yumlicious Chair Dance and Zumba Sentao
DESCRIPTION:Introducing a new style of Zumba\, incorporating strength training using a chair. Then stay for a Fit & Sassy original format called Yum-Licious.\n\n\n\nCome tone with Zumba Sentao then learn Yumlicious Chair Dancing just in time for Valentines Day.
X-ALT-DESC;FMTTYPE=text/html:Introducing a new style of Zumba\, incorporating strength training using a chair. Then stay for a Fit &amp\; Sassy original format called Yum-Licious.<br />\n<br />\nCome tone with Zumba Sentao then learn Yumlicious Chair Dancing just in time for Valentines Day.
LOCATION:Fit & Sassy Fitness 8108 Washington St Covington\, Ga 30014
UID:e.1627.91
SEQUENCE:3
DTSTAMP:20260419T154958Z
URL:https://business.newtonchamber.com/events/details/yumlicious-chair-dance-and-zumba-sentao-01-25-2014-91
END:VEVENT

END:VCALENDAR
