BEGIN:VCALENDAR
VERSION:2.0
PRODID:-//ChamberMaster//Event Calendar 2.0//EN
METHOD:PUBLISH
X-PUBLISHED-TTL:P3D
REFRESH-INTERVAL:P3D
CALSCALE:GREGORIAN
BEGIN:VEVENT
DTSTART:20170915T221500Z
DTEND:20170915T230000Z
X-MICROSOFT-CDO-ALLDAYEVENT:FALSE
SUMMARY:Yoga at the Yellow River Park Bird Sanctuary
DESCRIPTION:Moxie Fitness partners with the Village of Porterdale to offer complimentary YOGA IN THE YELLOW RIVER PARK. The class is for all ages and abilities. Bring a mat and water. Chairs will be available for those who would like to participate in a modified class.
X-ALT-DESC;FMTTYPE=text/html:Moxie Fitness partners with the Village of Porterdale to offer complimentary YOGA IN THE YELLOW RIVER PARK. The class is for all ages and abilities. Bring a mat and water. Chairs will be available for those who would like to participate in a modified class.&nbsp\;
LOCATION:Yellow River Park - Bird Sanctuary\, Main Street Porterdale. There will be directional signage from the gravel parking lot on Main Street.
UID:e.1627.3932
SEQUENCE:3
DTSTAMP:20260422T144937Z
URL:https://business.newtonchamber.com/events/details/yoga-at-the-yellow-river-park-bird-sanctuary-09-15-2017-3932
END:VEVENT

END:VCALENDAR
