BEGIN:VCALENDAR
VERSION:2.0
PRODID:-//ChamberMaster//Event Calendar 2.0//EN
METHOD:PUBLISH
X-PUBLISHED-TTL:P3D
REFRESH-INTERVAL:P3D
CALSCALE:GREGORIAN
BEGIN:VEVENT
DTSTART:20161001T160000Z
DTEND:20161002T000000Z
X-MICROSOFT-CDO-ALLDAYEVENT:FALSE
SUMMARY:Yellow River Jam - Porterdale GA
DESCRIPTION:Yellow River Jam 2016\, Boats\, Bews & Bands. Makers Market & Tiny House Exhibit\n\nNo coolers. Bring folding chairs and blankets as need
X-ALT-DESC;FMTTYPE=text/html:<p>Yellow River Jam 2016\, Boats\, Bews &amp\; Bands. Makers Market &amp\; Tiny House Exhibit</p>\n\n<p>No coolers. Bring folding chairs and blankets as need</p>\n\n<p>&nbsp\;</p>\n
LOCATION:Yellow River Park - Event Parking at the corner Main and Hemlock Streets
UID:e.1627.3066
SEQUENCE:3
DTSTAMP:20260421T223353Z
URL:https://business.newtonchamber.com/events/details/yellow-river-jam-porterdale-ga-3066
END:VEVENT

END:VCALENDAR
