BEGIN:VCALENDAR
VERSION:2.0
PRODID:-//ChamberMaster//Event Calendar 2.0//EN
METHOD:PUBLISH
X-PUBLISHED-TTL:P3D
REFRESH-INTERVAL:P3D
CALSCALE:GREGORIAN
BEGIN:VEVENT
DTSTART:20160915T090000Z
DTEND:20160917T210000Z
X-MICROSOFT-CDO-ALLDAYEVENT:FALSE
SUMMARY:Women's Apparel & Jewelry Sale to Benefit Porterdale 2017Centenary - September 15 -17\, 2016
DESCRIPTION:Close Out Sale of Women's Fashion Apparel and Jewelry. Everything priced $15 and under. Apparel includes dresses\, scarves and sweaters. Amazing Deals
X-ALT-DESC;FMTTYPE=text/html:<p><strong>Close Out Sale of Women&#39\;s Fashion Apparel and Jewelry</strong>. Everything priced $15 and under. Apparel includes dresses\, scarves and sweaters. Amazing Deals<br />\n&nbsp\;</p>\n\n<p>&nbsp\;</p>\n\n<p>&nbsp\;</p>\n
LOCATION:Porter Memoria Gym - Across from the Post Office in the Green Room 2201 Main St. Porterdale
UID:e.1627.3068
SEQUENCE:3
DTSTAMP:20260421T213030Z
URL:https://business.newtonchamber.com/events/details/women-s-apparel-jewelry-sale-to-benefit-porterdale-2017centenary-september-15-17-2016-3068
END:VEVENT

END:VCALENDAR
