BEGIN:VCALENDAR
VERSION:2.0
PRODID:-//ChamberMaster//Event Calendar 2.0//EN
METHOD:PUBLISH
X-PUBLISHED-TTL:P3D
REFRESH-INTERVAL:P3D
CALSCALE:GREGORIAN
BEGIN:VEVENT
DTSTART:20180308T223000Z
DTEND:20180309T000000Z
X-MICROSOFT-CDO-ALLDAYEVENT:FALSE
SUMMARY:Wine Tasting
DESCRIPTION:The Oaks Cours is having a Wine Tatsing Featuring Fox Vineyards. $12.00 per person\, this includes 5 different taste of wine. Register at www.olfoaks.com
X-ALT-DESC;FMTTYPE=text/html:The Oaks Cours is having a Wine Tatsing Featuring Fox Vineyards. $12.00 per person\, this includes 5 different taste of wine. Register at www.olfoaks.com
LOCATION:11240 Brown Bridge Road Covington\, GA 30014 770-786-3801
UID:e.1627.4387
SEQUENCE:3
DTSTAMP:20260423T014214Z
URL:https://business.newtonchamber.com/events/details/wine-tasting-4387
END:VEVENT

END:VCALENDAR
