BEGIN:VCALENDAR
VERSION:2.0
PRODID:-//ChamberMaster//Event Calendar 2.0//EN
METHOD:PUBLISH
X-PUBLISHED-TTL:P3D
REFRESH-INTERVAL:P3D
CALSCALE:GREGORIAN
BEGIN:VEVENT
DTSTART:20190322T123000Z
DTEND:20190322T140000Z
X-MICROSOFT-CDO-ALLDAYEVENT:FALSE
SUMMARY:Wildart Creative Factory Open House
DESCRIPTION:Come preview the brand new Wildart Creative Factory located at 1120 Church Street in Covington before the general public. Coffee\, juice and doughnuts will be served.
X-ALT-DESC;FMTTYPE=text/html:<p>Come preview the brand new Wildart Creative Factory located at 1120 Church Street in Covington before the general public. Coffee\, juice and doughnuts will be served.</p>\n
LOCATION:
UID:e.1627.6934
SEQUENCE:3
DTSTAMP:20260422T122721Z
URL:https://business.newtonchamber.com/events/details/wildart-creative-factory-open-house-6934
END:VEVENT

END:VCALENDAR
