BEGIN:VCALENDAR
VERSION:2.0
PRODID:-//ChamberMaster//Event Calendar 2.0//EN
METHOD:PUBLISH
X-PUBLISHED-TTL:P3D
REFRESH-INTERVAL:P3D
CALSCALE:GREGORIAN
BEGIN:VEVENT
DTSTART:20210414T230000Z
DTEND:20210415T000000Z
X-MICROSOFT-CDO-ALLDAYEVENT:FALSE
SUMMARY:Wednesdays in the Word
DESCRIPTION:Do you have questions about God you've never had answered? Are you looking to learn more about Christianity? Do you love digging into God's Word? If you answered "yes" to any or all of these questions\, Wednesdays in the Word is for you! We have Bible studies for all ages from 0-119! Join us for an awesome time to learn from our amazing Lord!
X-ALT-DESC;FMTTYPE=text/html:Do you have questions about God you&#39\;ve never had answered? Are you looking to learn more about Christianity? Do you love digging into God&#39\;s Word? If you answered &quot\;yes&quot\; to any or all of these questions\, Wednesdays in the Word is for you! We have Bible studies for all ages from 0-119! Join us for an awesome time to learn from our amazing Lord!
LOCATION:Abiding Grace Lutheran Church 5500 Highway 212 Covington\, GA 30016
UID:e.1627.7705
SEQUENCE:3
DTSTAMP:20260423T222125Z
URL:https://business.newtonchamber.com/events/details/wednesdays-in-the-word-04-14-2021-7705
END:VEVENT

END:VCALENDAR
