BEGIN:VCALENDAR
VERSION:2.0
PRODID:-//ChamberMaster//Event Calendar 2.0//EN
METHOD:PUBLISH
X-PUBLISHED-TTL:P3D
REFRESH-INTERVAL:P3D
CALSCALE:GREGORIAN
BEGIN:VEVENT
DTSTART:20161103T200000Z
DTEND:20161103T203000Z
X-MICROSOFT-CDO-ALLDAYEVENT:FALSE
SUMMARY:Vet Med Animal Clinic~~RIBBON CUTTING~~
DESCRIPTION:RIBBON CUTTING~~ VetMed Animal Clinic
X-ALT-DESC;FMTTYPE=text/html:RIBBON CUTTING~~ VetMed<span style="color: rgb(68\, 68\, 68)\; font-family: Arial\, Helvetica\, sans-serif\; font-size: 14px\; background-color: rgb(255\, 255\, 255)\;">&nbsp\;Animal Clinic</span>&nbsp\;
LOCATION:VetMed Animal Clinic 7263 Turner Lake Road Covington\, GA 30014 (770) 787-4899
UID:e.1627.3688
SEQUENCE:3
DTSTAMP:20260422T012631Z
URL:https://business.newtonchamber.com/events/details/vet-med-animal-clinic-ribbon-cutting-3688
END:VEVENT

END:VCALENDAR
