BEGIN:VCALENDAR
VERSION:2.0
PRODID:-//ChamberMaster//Event Calendar 2.0//EN
METHOD:PUBLISH
X-PUBLISHED-TTL:P3D
REFRESH-INTERVAL:P3D
CALSCALE:GREGORIAN
BEGIN:VEVENT
DTSTART:20170610T140000Z
DTEND:20170610T180000Z
X-MICROSOFT-CDO-ALLDAYEVENT:FALSE
SUMMARY:Vet Med Animal Clinic Customer Appreciation Day
DESCRIPTION:To thank all of our wonderful clients for trusting us with your fur babies\, we invite you out for a day of fun\, food & games.\n\nJoin us for:\n\n\n	 music by the Maloy Brothers Bluegrass Band\n	 our groomer will be offering a $5 eye trim & a $5 nail trim & grind\n	\n	 hamburgers\, hot dogs\, popcorn\, snow cones\n	\n	\n	 wildlife and animal rescue organizations (Walking Home Together\, AWARE\, Noah's Ark\, Wildlife Critters Circle of Life & Friends of Newton County Animal Control)\n	\n	\n	 raffles every 30 minutes\n	\n	\n	 dog agility course competition & family games (jello eating contest)\n	\n	\n	 giveaways
X-ALT-DESC;FMTTYPE=text/html:<div>To thank all of our wonderful clients&nbsp\;for trusting us with your fur babies\,&nbsp\;we invite you out for a day of fun\, food &amp\; games.</div>\n\n<div>Join us for:</div>\n\n<ul>\n	<li>&nbsp\;music by the Maloy Brothers Bluegrass Band</li>\n	<li>&nbsp\;our groomer will be offering a $5 eye trim &amp\; a $5 nail trim &amp\; grind</li>\n	<li>\n	<div>&nbsp\;hamburgers\, hot dogs\, popcorn\, snow cones</div>\n	</li>\n	<li>\n	<div>&nbsp\;wildlife and animal rescue organizations (Walking Home Together\, AWARE\, Noah&#39\;s Ark\, Wildlife Critters Circle of Life &amp\; Friends of Newton County Animal Control)</div>\n	</li>\n	<li>\n	<div>&nbsp\;raffles every 30 minutes</div>\n	</li>\n	<li>\n	<div>&nbsp\;dog agility course competition &amp\; family games (jello eating contest)</div>\n	</li>\n	<li>\n	<div>&nbsp\;giveaways</div>\n	</li>\n</ul>\n
LOCATION:7257 Turner Lake Road Covington\, GA 30014
UID:e.1627.3788
SEQUENCE:3
DTSTAMP:20260422T104355Z
URL:https://business.newtonchamber.com/events/details/vet-med-animal-clinic-customer-appreciation-day-3788
END:VEVENT

END:VCALENDAR
