BEGIN:VCALENDAR
VERSION:2.0
PRODID:-//ChamberMaster//Event Calendar 2.0//EN
METHOD:PUBLISH
X-PUBLISHED-TTL:P3D
REFRESH-INTERVAL:P3D
CALSCALE:GREGORIAN
BEGIN:VEVENT
DTSTART;VALUE=DATE:20180214
DTEND;VALUE=DATE:20180215
TRANSP:TRANSPARENT
X-MICROSOFT-CDO-ALLDAYEVENT:TRUE
SUMMARY:Valentines Specials
DESCRIPTION:Couples pay 1/2 price for 18 holes with cart\, includes and a glass of wine is included.
X-ALT-DESC;FMTTYPE=text/html:Couples pay 1/2 price for 18 holes with cart\, includes and a glass of wine is included.&nbsp\;
LOCATION:The Oaks Course 11240 Brown Bridge Road Covington\, GA 30014
UID:e.1627.4390
SEQUENCE:3
DTSTAMP:20260422T222639Z
URL:https://business.newtonchamber.com/events/details/valentines-specials-4390
END:VEVENT

END:VCALENDAR
