BEGIN:VCALENDAR
VERSION:2.0
PRODID:-//ChamberMaster//Event Calendar 2.0//EN
METHOD:PUBLISH
X-PUBLISHED-TTL:P3D
REFRESH-INTERVAL:P3D
CALSCALE:GREGORIAN
BEGIN:VEVENT
DTSTART;VALUE=DATE:20170124
DTEND;VALUE=DATE:20170214
TRANSP:TRANSPARENT
X-MICROSOFT-CDO-ALLDAYEVENT:TRUE
SUMMARY:Valentine's Day Raffle
DESCRIPTION:Do something special for your 'Dapper " gentleman and buy one of our raffle tickets for one of our fabulous Valentines baskets. Our large basket is $5 per raffle ticket. And our small basket is for a $2 raflle ticket. The raffle will be on Feb. 13th!! Purchase now. Raffle tickets are available. Always keep in mind that we have gift certificates on hand for our products and services. Stop by today!
X-ALT-DESC;FMTTYPE=text/html:Do something special for your &#39\;Dapper &quot\; gentleman and buy one of our raffle tickets for one of our fabulous Valentines baskets. Our large basket is $5 per raffle ticket. And our small basket is for a $2 raflle ticket. The raffle will be on Feb. 13th!! Purchase now. Raffle tickets are available. Always keep in mind that we have gift certificates on hand for our products and services. Stop by today!
LOCATION:Gents Grooming Lounge 2104 Main Street Porterdale\, GA 30014
UID:e.1627.3776
SEQUENCE:3
DTSTAMP:20260422T025729Z
URL:https://business.newtonchamber.com/events/details/valentine-s-day-raffle-3776
END:VEVENT

END:VCALENDAR
