BEGIN:VCALENDAR
VERSION:2.0
PRODID:-//ChamberMaster//Event Calendar 2.0//EN
METHOD:PUBLISH
X-PUBLISHED-TTL:P3D
REFRESH-INTERVAL:P3D
CALSCALE:GREGORIAN
BEGIN:VEVENT
DTSTART:20180214T210000Z
DTEND:20180215T010000Z
X-MICROSOFT-CDO-ALLDAYEVENT:FALSE
SUMMARY:Valentine's Day at the Gym!
DESCRIPTION:Whether you are celebrating Valentines\, Galentines\, with your Bro's\, or Single's Awareness Day\, we are here for you! Join us Wednesday\, February 14 from 4PM - 8PM for Valentine's Day at the Gym! \n\n\n\nWe will have:\n\nMake & Take Goodie Bags from DoTerra available for purchase.\n\nBags can be pre-ordered!\n\n\n\nComplimentary Hair Styling from 4PM - 6:45PM.\n\nReserve your time slot at our front desk!\n\n\n\nComplimentary mini-massages courtesy of Life Dance!\n\nNo reservation required. First come\, first serve.\n\n\n\nSWEET DEALS: Get the perfect gift for yourself and/or your Valentine! We're offering a special 2 for 1 OR 50% to join!\n\n\n\n2 Chances to Win Prizes at this Event:\n\n1. Refer at least one person who joins between February 1 - 13\, and be entered to win a $25 gift card to the movies or Cracker Barrel! Just in time for Valentine's weekend!\n\n2. Want to win a month of FREE Push ZONE classes from you & a friend? Be the person who refers the most people who join Push between February 1 - 13 (must refer a minimum of 3 new members).
X-ALT-DESC;FMTTYPE=text/html:<span style="color:rgb(75\, 79\, 86)\; font-family:helvetica\,arial\,sans-serif\; font-size:14px">Whether you are celebrating Valentines\, Galentines\, with your Bro&#39\;s\, or Single&#39\;s Awareness Day\, we are here for you! Join us Wednesday\, February 14 from 4PM - 8PM for Valentine&#39\;s Day at the Gym!&nbsp\;</span><br />\n<br />\n<span style="color:rgb(75\, 79\, 86)\; font-family:helvetica\,arial\,sans-serif\; font-size:14px">We will have:</span><br />\n<span style="color:rgb(75\, 79\, 86)\; font-family:helvetica\,arial\,sans-serif\; font-size:14px">Make &amp\; Take Goodie Bags from DoTerra available for purchase.</span><br />\n<span style="color:rgb(75\, 79\, 86)\; font-family:helvetica\,arial\,sans-serif\; font-size:14px">Bags can be pre-ordered!</span><br />\n<br />\n<span style="color:rgb(75\, 79\, 86)\; font-family:helvetica\,arial\,sans-serif\; font-size:14px">Complimentary Hair Styling from 4PM - 6:45PM.</span><br />\n<span style="color:rgb(75\, 79\, 86)\; font-family:helvetica\,arial\,sans-serif\; font-size:14px">Reserve your time slot at our front desk!</span><br />\n<br />\n<span style="color:rgb(75\, 79\, 86)\; font-family:helvetica\,arial\,sans-serif\; font-size:14px">Complimentary mini-massages courtesy of Life Dance!</span><br />\n<span style="color:rgb(75\, 79\, 86)\; font-family:helvetica\,arial\,sans-serif\; font-size:14px">No reservation required. First come\, first serve.</span><br />\n<br />\n<span style="color:rgb(75\, 79\, 86)\; font-family:helvetica\,arial\,sans-serif\; font-size:14px">SWEET DEALS: Get the perfect gift for yourself and/or your Valentine! We&#39\;re offering a special 2 for 1 OR 50% to join!<br />\n<br />\n2 Chances to Win Prizes at this Event:<br />\n1. Refer at least one person who joins between February 1 - 13\, and be entered to win a $25 gift card to the movies or Cracker Barrel! Just in time for Valentine&#39\;s weekend!<br />\n2. Want to win a month of FREE Push ZONE classes from you &amp\; a friend? Be the person who refers the most people who join Push between February 1 - 13 (must refer a minimum of 3 new members).</span>
LOCATION:Push by Alcovy Fitness is located in the Covington Gallery Shopping Center at 7275 Turner Lake Rd in Covington\, GA. (770) 728-1237
UID:e.1627.4391
SEQUENCE:3
DTSTAMP:20260422T223002Z
URL:https://business.newtonchamber.com/events/details/valentine-s-day-at-the-gym-4391
END:VEVENT

END:VCALENDAR
