BEGIN:VCALENDAR
VERSION:2.0
PRODID:-//ChamberMaster//Event Calendar 2.0//EN
METHOD:PUBLISH
X-PUBLISHED-TTL:P3D
REFRESH-INTERVAL:P3D
CALSCALE:GREGORIAN
BEGIN:VEVENT
DTSTART:20180209T210000Z
DTEND:20180209T230000Z
X-MICROSOFT-CDO-ALLDAYEVENT:FALSE
SUMMARY:Valentine’s Celebration
DESCRIPTION:Love is in the air! Join residents for happy hour at 4 pm and don't miss our delicious Italian Dinner that follows at 5 pm. Make sure you stay for creamy desserts that will delight your taste buds! Kindly RSVP 770-788-6660
X-ALT-DESC;FMTTYPE=text/html:Love is in the air! Join residents for happy hour at 4 pm and don&rsquo\;t miss our delicious Italian Dinner that follows at 5 pm. Make sure you stay for creamy desserts that will delight your taste buds! Kindly RSVP 770-788-6660
LOCATION:Benton House of Covington 7155 Dearing Road Covington\, GA 30014
UID:e.1627.4388
SEQUENCE:3
DTSTAMP:20260422T222645Z
URL:https://business.newtonchamber.com/events/details/valentine-s-celebration-4388
END:VEVENT

END:VCALENDAR
