BEGIN:VCALENDAR
VERSION:2.0
PRODID:-//ChamberMaster//Event Calendar 2.0//EN
METHOD:PUBLISH
X-PUBLISHED-TTL:P3D
REFRESH-INTERVAL:P3D
CALSCALE:GREGORIAN
BEGIN:VEVENT
DTSTART:20180809T223000Z
DTEND:20180809T233000Z
X-MICROSOFT-CDO-ALLDAYEVENT:FALSE
SUMMARY:VA Benefits Seminar
DESCRIPTION:You may be eligible for VA benefits if you\n\nare a wartime veteran or the surviving spouse\n\nof a wartime veteran. Keith Dawkins\, Senior\n\nSpecialist for Aging Options\, will discuss:\n\n  overview of program benefits\n\n  eligibility requirements\n\n  how to apply for and maintain benefits
X-ALT-DESC;FMTTYPE=text/html:You may be eligible for VA benefits if you<br />\nare a wartime veteran or the surviving spouse<br />\nof a wartime veteran. Keith Dawkins\, Senior<br />\nSpecialist for Aging Options\, will discuss:<br />\n&bull\; overview of program benefits<br />\n&bull\; eligibility requirements<br />\n&bull\; how to apply for and maintain benefits
LOCATION:Benton House of Covington 7155 Dearing Road Covington\, GA 30014
UID:e.1627.6806
SEQUENCE:3
DTSTAMP:20260423T000927Z
URL:https://business.newtonchamber.com/events/details/va-benefits-seminar-6806
END:VEVENT

END:VCALENDAR
