BEGIN:VCALENDAR
VERSION:2.0
PRODID:-//ChamberMaster//Event Calendar 2.0//EN
METHOD:PUBLISH
X-PUBLISHED-TTL:P3D
REFRESH-INTERVAL:P3D
CALSCALE:GREGORIAN
BEGIN:VEVENT
DTSTART;VALUE=DATE:20190613
DTEND;VALUE=DATE:20190617
TRANSP:TRANSPARENT
X-MICROSOFT-CDO-ALLDAYEVENT:TRUE
SUMMARY:US Open at The Oaks Course
DESCRIPTION:Come join us and wear Red\, White and Blue. Wear one color gets 5% off\, two colors get 10% off\, three colors get 20% off. Also\, the restaurant will be having grill outs featuring American foods.
X-ALT-DESC;FMTTYPE=text/html:Come join us and wear Red\, White and Blue. Wear one color gets 5% off\, two colors get 10% off\, three colors get 20% off. Also\, the restaurant will be having grill outs featuring American foods.
LOCATION:
UID:e.1627.6917
SEQUENCE:3
DTSTAMP:20260422T082429Z
URL:https://business.newtonchamber.com/events/details/us-open-at-the-oaks-course-6917
END:VEVENT

END:VCALENDAR
