BEGIN:VCALENDAR
VERSION:2.0
PRODID:-//ChamberMaster//Event Calendar 2.0//EN
METHOD:PUBLISH
X-PUBLISHED-TTL:P3D
REFRESH-INTERVAL:P3D
CALSCALE:GREGORIAN
BEGIN:VEVENT
DTSTART:20170428T150000Z
DTEND:20170428T173000Z
X-MICROSOFT-CDO-ALLDAYEVENT:FALSE
SUMMARY:Unlock Your Potential Workshop
DESCRIPTION:"Unlock Your Potential" Workshop\, scheduled for Friday\, April 28\, 2017\, 11a-1:30p\, is the first of a series of workshops designed to help you live a life of limitless possibilities. "Unlock Your Potential" will leave you empowered with a plan to move forward as you shatter the myths that have held you back from reaching your full potential.\n \n\nRegister at www.idgvision.com. This session is designed to be in a small group format\, so seating is limited.
X-ALT-DESC;FMTTYPE=text/html:<span style="color:rgb(34\, 34\, 34)\; font-family:arial\,sans-serif\; font-size:12.8px">&quot\;Unlock Your Potential&quot\; Workshop\, scheduled for Friday\, April 28\, 2017\, 11a-1:30p\, is&nbsp\;the first of a series of workshops designed to help you live a life of&nbsp\;</span><em>limitless possibilities</em><span style="color:rgb(34\, 34\, 34)\; font-family:arial\,sans-serif\; font-size:12.8px">. &quot\;Unlock Your Potential&quot\; will leave you empowered with a plan to move forward as you shatter the myths that have held you back from reaching your full potential.</span>\n<div>&nbsp\;</div>\n\n<div><span style="font-size:12.8px">Register at&nbsp\;</span><a href="http://www.idgvision.com/" style="color: rgb(17\, 85\, 204)\; font-size: 12.8px\;" target="_blank">www.idgvision.com</a><span style="font-size:12.8px">.&nbsp\;</span><span style="font-size:12.8px">This session is designed to be in a small group format\, so seating is limited.&nbsp\;</span></div>\n
LOCATION:1122 Monticello St\, Suite 12\, Covington\, GA 30014
UID:e.1627.3784
SEQUENCE:3
DTSTAMP:20260422T075039Z
URL:https://business.newtonchamber.com/events/details/unlock-your-potential-workshop-3784
END:VEVENT

END:VCALENDAR
