BEGIN:VCALENDAR
VERSION:2.0
PRODID:-//ChamberMaster//Event Calendar 2.0//EN
METHOD:PUBLISH
X-PUBLISHED-TTL:P3D
REFRESH-INTERVAL:P3D
CALSCALE:GREGORIAN
BEGIN:VEVENT
DTSTART:20131102T140000Z
DTEND:20131102T180000Z
X-MICROSOFT-CDO-ALLDAYEVENT:FALSE
SUMMARY:Troy University - Covington- FREE APPLICATION DAY
DESCRIPTION:Troy University Covington location will be hosting a free application day! Come by the site to apply for undergraduate or graduate programs and have your application fee waived.
X-ALT-DESC;FMTTYPE=text/html:Troy University Covington location will be hosting a free application day! Come by the site to apply for undergraduate or graduate programs and have your application fee waived.
LOCATION:1160 Monticello Street Covington GA 30014
UID:e.1627.86
SEQUENCE:3
DTSTAMP:20260419T151648Z
URL:https://business.newtonchamber.com/events/details/troy-university-covington-free-application-day-11-02-2013-86
END:VEVENT

END:VCALENDAR
