BEGIN:VCALENDAR
VERSION:2.0
PRODID:-//ChamberMaster//Event Calendar 2.0//EN
METHOD:PUBLISH
X-PUBLISHED-TTL:P3D
REFRESH-INTERVAL:P3D
CALSCALE:GREGORIAN
BEGIN:VEVENT
DTSTART:20190216T160000Z
DTEND:20190216T180000Z
X-MICROSOFT-CDO-ALLDAYEVENT:FALSE
SUMMARY:Town of Newborn - Arbor Day
DESCRIPTION:Everyone is invited out for Newborn's Arbor Day. This year it will be held at the Newborn Schoolhouse / Community Center. Free Seedlings will be given out (Dogwoods and Bald Cypress) Free lunch (hot dogs and chips) Tree Climbing for kids (and adults) and meet Smoky Bear.\n\nWe hope you can join the Town of Newborn at our annual Arbor Day Celebration. \n\n\n\nAlso\, there will be BINGO after the event ends at 1pm.\n\nBINGO will be held in the Community Center
X-ALT-DESC;FMTTYPE=text/html:<div style="text-align:center"><span style="font-size:12px"><span style="font-family:verdana"><strong><span style="color:#006400"><span style="background-color:#FFFFFF">Everyone is invited out for Newborn&#39\;s Arbor Day. This year it will be held at the Newborn Schoolhouse / Community Center. Free Seedlings will be given out (Dogwoods and Bald Cypress) Free lunch (hot dogs and chips) Tree Climbing for kids (and adults) and meet Smoky Bear.<br />\nWe hope you can join the Town of Newborn at our annual Arbor Day Celebration.&nbsp\;<br />\n<br />\nAlso\, there will be BINGO after the event ends at 1pm.<br />\nBINGO will be held in the Community Center</span></span></strong></span></span></div>\n
LOCATION:Newborn Schoolhouse / Community Center - 4326 Hwy 142
UID:e.1627.6895
SEQUENCE:3
DTSTAMP:20260422T140818Z
URL:https://business.newtonchamber.com/events/details/town-of-newborn-arbor-day-6895
END:VEVENT

END:VCALENDAR
