BEGIN:VCALENDAR
VERSION:2.0
PRODID:-//ChamberMaster//Event Calendar 2.0//EN
METHOD:PUBLISH
X-PUBLISHED-TTL:P3D
REFRESH-INTERVAL:P3D
CALSCALE:GREGORIAN
BEGIN:VEVENT
DTSTART:20161001T150000Z
DTEND:20161001T180000Z
X-MICROSOFT-CDO-ALLDAYEVENT:FALSE
SUMMARY:Toe Tappin' Country Music Open House
DESCRIPTION:Invite a friend and join us for a special luncheon as we celebrate country music by hosting an open house and play Name That Tune.  I can name that tune in eight notes!
X-ALT-DESC;FMTTYPE=text/html:Invite a friend and join us for a special luncheon as we celebrate country music by hosting an open house and play Name That Tune.&nbsp\; I can name that tune in eight notes!
LOCATION:Benton House of Covington Senior Living Community 7155 Dearing Road Covington\, GA 30014
UID:e.1627.3070
SEQUENCE:3
DTSTAMP:20260421T223821Z
URL:https://business.newtonchamber.com/events/details/toe-tappin-country-music-open-house-3070
END:VEVENT

END:VCALENDAR
