BEGIN:VCALENDAR
VERSION:2.0
PRODID:-//ChamberMaster//Event Calendar 2.0//EN
METHOD:PUBLISH
X-PUBLISHED-TTL:P3D
REFRESH-INTERVAL:P3D
CALSCALE:GREGORIAN
BEGIN:VEVENT
DTSTART:20180816T210000Z
DTEND:20180817T000000Z
X-MICROSOFT-CDO-ALLDAYEVENT:FALSE
SUMMARY:THINK~THRIVE Women's Expo
DESCRIPTION:Join us for THINK~THRIVE Women's Expo featuring keynote speaker Gretchen Corbin\, President & CEO of the Georgia Lottery Corp.
X-ALT-DESC;FMTTYPE=text/html:Join us for THINK~THRIVE Women&#39\;s Expo featuring keynote speaker Gretchen Corbin\, President &amp\; CEO of the Georgia Lottery Corp.&nbsp\;
LOCATION:The Reserve at Hendricks 1149 Hendrick Street\, SW Covington\, GA 30014
UID:e.1627.6679
SEQUENCE:3
DTSTAMP:20260423T000913Z
URL:https://business.newtonchamber.com/events/details/think-thrive-women-s-expo-6679
END:VEVENT

END:VCALENDAR
