BEGIN:VCALENDAR
VERSION:2.0
PRODID:-//ChamberMaster//Event Calendar 2.0//EN
METHOD:PUBLISH
X-PUBLISHED-TTL:P3D
REFRESH-INTERVAL:P3D
CALSCALE:GREGORIAN
BEGIN:VEVENT
DTSTART:20171111T220000Z
DTEND:20171112T030000Z
X-MICROSOFT-CDO-ALLDAYEVENT:FALSE
SUMMARY:The RightCare After 5 Gala
DESCRIPTION:As you know\, Right at Home of East Atlanta has compassion for and a willingness to serve our whole community but\, our deepest concerns and primary focus is on improving the lives of seniors and disabled adults.\n\nPlease\, join us for the "Right Care After Five Gala" an elegant evening of fine dining\, entertainment\, great music and dancing.\n\nYour contribution to this event will help us award scholarships to families who are in need of in-home care assistance\, but at this moment in their lives\, cannot afford it. Our mission is to improve the quality of life for those we serve. Thank you for coming together as a community\, touching and improving lives together. We look forward to seeing you at the Gala!!!\n\n                                                                     *****Dress Code: Formal*****
X-ALT-DESC;FMTTYPE=text/html:<em><strong>As you know\, Right at Home of East Atlanta has compassion for and a willingness to serve our whole community but\, our deepest concerns and primary focus is on improving the lives of seniors and disabled adults.</strong></em><br />\n<em><strong>Please\, join us for the &ldquo\;Right Care After Five Gala&rdquo\; an elegant evening of fine dining\, entertainment\, great music and dancing.</strong></em><br />\n<em><strong>Your contribution to this event will help us award scholarships to families who are in need of in-home care assistance\, but at this moment in their lives\, cannot afford it. Our mission is to improve the quality of life for those we serve. Thank you for coming together as a community\, touching and improving lives together. We look forward to seeing you at the Gala!!!</strong></em><br />\n<em><strong>&nbsp\; &nbsp\; &nbsp\; &nbsp\; &nbsp\; &nbsp\; &nbsp\; &nbsp\; &nbsp\; &nbsp\; &nbsp\; &nbsp\; &nbsp\; &nbsp\; &nbsp\; &nbsp\; &nbsp\; &nbsp\; &nbsp\; &nbsp\; &nbsp\; &nbsp\; &nbsp\; &nbsp\; &nbsp\; &nbsp\; &nbsp\; &nbsp\; &nbsp\; &nbsp\; &nbsp\; &nbsp\; &nbsp\; &nbsp\; &nbsp\;*****Dress Code: Formal*****</strong></em>
LOCATION:
UID:e.1627.4064
SEQUENCE:3
DTSTAMP:20260422T172756Z
URL:https://business.newtonchamber.com/events/details/the-rightcare-after-5-gala-4064
END:VEVENT

END:VCALENDAR
