BEGIN:VCALENDAR
VERSION:2.0
PRODID:-//ChamberMaster//Event Calendar 2.0//EN
METHOD:PUBLISH
X-PUBLISHED-TTL:P3D
REFRESH-INTERVAL:P3D
CALSCALE:GREGORIAN
BEGIN:VEVENT
DTSTART:20171216T133000Z
DTEND:20171216T193000Z
X-MICROSOFT-CDO-ALLDAYEVENT:FALSE
SUMMARY:The Oaks Annual Christmas Tournament
DESCRIPTION:Come celebrate the holidays with us at The Oaks Golf Course for our annual Christmas Tournament. Golf in the sleet\, rain\, or snow!\n\n	Day of Registration Begins at 8:30am\n	9:30am Shotgun Start\n	4 Person Scramble (registration for 1 to 4 players)\n	$60 Per Person if you Register Early (includes lunch & gift)\n	Benefits the Newton County Boys & Girls Club
X-ALT-DESC;FMTTYPE=text/html:<span style="color:rgb(75\, 79\, 86)\; font-family:helvetica\,arial\,sans-serif\; font-size:14px">Come celebrate the holidays with us at The Oaks Golf Course for our annual Christmas Tournament. Golf in the sleet\, rain\, or snow!</span>\n<ul>\n	<li><span style="color:rgb(75\, 79\, 86)\; font-family:helvetica\,arial\,sans-serif\; font-size:14px">Day of Registration Begins at 8:30am</span></li>\n	<li><span style="color:rgb(75\, 79\, 86)\; font-family:helvetica\,arial\,sans-serif\; font-size:14px">9:30am Shotgun Start</span></li>\n	<li><span style="color:rgb(75\, 79\, 86)\; font-family:helvetica\,arial\,sans-serif\; font-size:14px">4 Person Scramble (registration for 1 to 4 players)</span></li>\n	<li><span style="color:rgb(75\, 79\, 86)\; font-family:helvetica\,arial\,sans-serif\; font-size:14px">$60 Per Person if you Register Early (includes lunch &amp\; gift)</span></li>\n	<li><span style="color:rgb(75\, 79\, 86)\; font-family:helvetica\,arial\,sans-serif\; font-size:14px">Benefits the Newton County Boys &amp\; Girls Club</span></li>\n</ul>\n
LOCATION:The Oaks Golf Course 11240 Brown Bridge Rd. Covington\, GA 30014
UID:e.1627.4332
SEQUENCE:3
DTSTAMP:20260422T204518Z
URL:https://business.newtonchamber.com/events/details/the-oaks-annual-christmas-tournament-4332
END:VEVENT

END:VCALENDAR
