BEGIN:VCALENDAR
VERSION:2.0
PRODID:-//ChamberMaster//Event Calendar 2.0//EN
METHOD:PUBLISH
X-PUBLISHED-TTL:P3D
REFRESH-INTERVAL:P3D
CALSCALE:GREGORIAN
BEGIN:VEVENT
DTSTART:20170325T130000Z
DTEND:20170325T210000Z
X-MICROSOFT-CDO-ALLDAYEVENT:FALSE
SUMMARY:The Great American Cleanup
DESCRIPTION:Keep Covington/Newton Beautiful invites YOU to clean up roadside litter and work on beautification projects across Newton County during our local Great American Cleanup kickoff. \n\n \n\nRegistration deadline is March 17. \n\nVisit www.kcnb.biz or call 770-784-2015.
X-ALT-DESC;FMTTYPE=text/html:<span style="font-size:14px"><span style="font-family:arial\,helvetica\,sans-serif">Keep Covington/Newton Beautiful invites YOU to clean up roadside litter and work on beautification projects across Newton County during our local Great American Cleanup kickoff.&nbsp\;<br />\n&nbsp\;<br />\nRegistration deadline is March 17.&nbsp\;<br />\nVisit <a href="http://www.kcnb.biz/">www.kcnb.biz</a> or call 770-784-2015.</span></span>
LOCATION:Meet at Longhorn Steakhouse of Covington to pick up breakfast\, t-shirts\, and cleanup supplies. Then go out on your own or with your team to clean up at the Newton County location of your choice\, or you can choose from a prepared list of roadways and projects.
UID:e.1627.3782
SEQUENCE:3
DTSTAMP:20260422T061936Z
URL:https://business.newtonchamber.com/events/details/the-great-american-cleanup-3782
END:VEVENT

END:VCALENDAR
