BEGIN:VCALENDAR
VERSION:2.0
PRODID:-//ChamberMaster//Event Calendar 2.0//EN
METHOD:PUBLISH
X-PUBLISHED-TTL:P3D
REFRESH-INTERVAL:P3D
CALSCALE:GREGORIAN
BEGIN:VEVENT
DTSTART:20190225T230000Z
DTEND:20190226T010000Z
X-MICROSOFT-CDO-ALLDAYEVENT:FALSE
SUMMARY:Ten Steps for Millennials to Put Yourself on the Path to Financial Success
DESCRIPTION:FINANCIAL PLANNING SEMINAR \n\nFOR MILLENNIALS\n\n \n\n FEBRUARY 25th \n\n6:30   8:00 PM (Sign-In Begins @6:00)\n\n    The Lula Building-2nd Floor\n\n    1123 Church Street - Suite 200\, Covington\n\n \n\n                   "Ten Steps for Millennials to Put Yourself\n\n                 on the Path to Financial Success"\n\nPlease join us for a complimentary session on how to assure yourself that you are on the path to reach your financial aspirations in life\, with specific information on exactly which actions to take to reach your short-term & long-term financial goals. \n\nPlease RSVP to Mark at mark@reaganfinancialplanning.com or \n\ncall Mark at 770-658-9440.  Light Dinner Served.\n\n\n\nEvent Sponsored by - American Realty Seniors Division
X-ALT-DESC;FMTTYPE=text/html:<span style="font-family:georgia\,serif"><span style="font-size:24.0pt">FINANCIAL PLANNING SEMINAR </span></span><br />\n<span style="font-family:georgia\,serif"><span style="font-size:26.0pt">FOR MILLENNIALS</span></span><br />\n&nbsp\;<br />\n<span style="font-family:georgia\,serif"><span style="font-size:22.0pt">&nbsp\;FEBRUARY 25<sup>th</sup> </span></span><br />\n<span style="font-family:georgia\,serif"><span style="font-size:22.0pt">6:30 &ndash\; 8:00 PM</span></span><span style="font-family:georgia\,serif"><span style="font-size:18.0pt"> (Sign-In Begins @6:00)</span></span><br />\n<span style="font-family:georgia\,serif"><span style="font-size:22.0pt">&nbsp\;&nbsp\;&nbsp\; The Lula Building-2<sup>nd</sup> Floor</span></span><br />\n<span style="font-family:georgia\,serif"><span style="font-size:16.0pt">&nbsp\;&nbsp\;&nbsp\; 1123 Church Street - Suite 200\, Covington</span></span><br />\n&nbsp\;<br />\n<span style="color:#C45911"><span style="font-family:georgia\,serif"><span style="font-size:16.0pt">&nbsp\;&nbsp\;&nbsp\;&nbsp\;&nbsp\;&nbsp\;&nbsp\;&nbsp\;&nbsp\;&nbsp\;&nbsp\;&nbsp\;&nbsp\;&nbsp\;&nbsp\;&nbsp\;&nbsp\;&nbsp\;&nbsp\;</span></span></span><span style="font-size:36px"><strong><span style="color:#900A0D"><span style="font-family:freestyle script">&ldquo\;Ten Steps for Millennials to Put Yourself</span></span></strong><br />\n<strong><span style="color:#900A0D"><span style="font-family:freestyle script">&nbsp\;&nbsp\;&nbsp\;&nbsp\;&nbsp\;&nbsp\;&nbsp\;&nbsp\;&nbsp\;&nbsp\;&nbsp\;&nbsp\;&nbsp\;&nbsp\;&nbsp\;&nbsp\; on the Path to Financial Success&rdquo\;</span></span></strong></span><br />\n<span style="font-family:georgia\,serif"><span style="font-size:18.0pt">Please join us for a <strong>complimentary</strong> session on how to assure yourself that you are on the path to reach your financial aspirations in life\, with specific information on exactly which actions to take to reach your short-term &amp\; long-term financial goals. </span></span><br />\n<span style="font-family:georgia\,serif"><span style="font-size:18.0pt">Please RSVP to Mark at <a href="mailto:mark@reaganfinancialplanning.com">mark@reaganfinancialplanning.com</a></span> or </span><br />\n<span style="font-family:georgia\,serif"><span style="font-size:18.0pt">call Mark at 770-658-9440. &nbsp\;<strong><span style="color:#8A0000">Light Dinner Served.</span></strong></span></span><br />\n<br />\n<span style="font-size:22px"><strong><span style="font-family:georgia\,serif">Event Sponsored by - American Realty Seniors Division</span></strong></span><br />\n&nbsp\;
LOCATION:The Lula Building-2nd Floor 1123 Church Street - Suite 200 Covington\, GA 30014
UID:e.1627.6911
SEQUENCE:3
DTSTAMP:20260422T153033Z
URL:https://business.newtonchamber.com/events/details/ten-steps-for-millennials-to-put-yourself-on-the-path-to-financial-success-6911
END:VEVENT

END:VCALENDAR
