BEGIN:VCALENDAR
VERSION:2.0
PRODID:-//ChamberMaster//Event Calendar 2.0//EN
METHOD:PUBLISH
X-PUBLISHED-TTL:P3D
REFRESH-INTERVAL:P3D
CALSCALE:GREGORIAN
BEGIN:VEVENT
DTSTART:20180420T220000Z
DTEND:20180421T020000Z
X-MICROSOFT-CDO-ALLDAYEVENT:FALSE
SUMMARY:Taste of Social Circle
DESCRIPTION:Join us for the evening and sample the best of Social Circle and the surrounding area! There will be music\,yard games\, face painting and a Beer Garden. Tickets can be purchased the evening of the event.
X-ALT-DESC;FMTTYPE=text/html:<span style="background-color:rgb(255\, 255\, 255)\; color:rgb(75\, 79\, 86)\; font-family:helvetica\,arial\,sans-serif\; font-size:14px">Join us for the evening and sample the best of Social Circle and the surrounding area! There will be music\,yard games\, face painting and a Beer Garden. Tickets can be purchased the evening of the event.</span>
LOCATION:Friendship Park (across from Social Circle Ace Home Center) in downtown Social Circle
UID:e.1627.5624
SEQUENCE:3
DTSTAMP:20260423T015933Z
URL:https://business.newtonchamber.com/events/details/taste-of-social-circle-5624
END:VEVENT

END:VCALENDAR
