BEGIN:VCALENDAR
VERSION:2.0
PRODID:-//ChamberMaster//Event Calendar 2.0//EN
METHOD:PUBLISH
X-PUBLISHED-TTL:P3D
REFRESH-INTERVAL:P3D
CALSCALE:GREGORIAN
BEGIN:VEVENT
DTSTART:20161013T210000Z
DTEND:20161014T000000Z
X-MICROSOFT-CDO-ALLDAYEVENT:FALSE
SUMMARY:TASTE OF NEWTON
DESCRIPTION:Join us for the Taste of Newton and sample all of your favorite local restaurants.
X-ALT-DESC;FMTTYPE=text/html:Join us for the Taste of Newton and sample all of your favorite local restaurants.&nbsp\;&nbsp\;&nbsp\;&nbsp\;
LOCATION:Porterdale Gym 2201 Main Street Porterdale\, GA
UID:e.1627.2651
SEQUENCE:3
DTSTAMP:20260421T223721Z
URL:https://business.newtonchamber.com/events/details/taste-of-newton-10-13-2016-2651
END:VEVENT

END:VCALENDAR
