BEGIN:VCALENDAR
VERSION:2.0
PRODID:-//ChamberMaster//Event Calendar 2.0//EN
METHOD:PUBLISH
X-PUBLISHED-TTL:P3D
REFRESH-INTERVAL:P3D
CALSCALE:GREGORIAN
BEGIN:VEVENT
DTSTART:20180504T220000Z
DTEND:20180505T020000Z
X-MICROSOFT-CDO-ALLDAYEVENT:FALSE
SUMMARY:Swinging Medallions Spring Fling at Porter Memorial Gym
DESCRIPTION:Friends of Porterdale and the Village of Porterdale invite you to attend the annual Spring Fling at Porter Memorial Gymnasium. We are going to pack at the house with all those who enjoy beach music and good time. Information about table reservations and tickets is available at www.firendsofporterdale.com
X-ALT-DESC;FMTTYPE=text/html:Friends of Porterdale and the Village of Porterdale invite you to attend the annual Spring Fling at Porter Memorial Gymnasium. We are going to pack at the house with all those who enjoy beach music and good time. Information about table reservations and tickets is available at www.firendsofporterdale.com
LOCATION:Porter Memorial Gymnasium at 2201 Main Street Porterdale GA 30014
UID:e.1627.4386
SEQUENCE:3
DTSTAMP:20260423T050356Z
URL:https://business.newtonchamber.com/events/details/swinging-medallions-spring-fling-at-porter-memorial-gym-4386
END:VEVENT

END:VCALENDAR
