BEGIN:VCALENDAR
VERSION:2.0
PRODID:-//ChamberMaster//Event Calendar 2.0//EN
METHOD:PUBLISH
X-PUBLISHED-TTL:P3D
REFRESH-INTERVAL:P3D
CALSCALE:GREGORIAN
BEGIN:VEVENT
DTSTART:20240922T120000Z
DTEND:20240922T160000Z
X-MICROSOFT-CDO-ALLDAYEVENT:FALSE
SUMMARY:Sunday Worship services
DESCRIPTION:Join us for worship service on Sundays every week at 8am and 10:30am.  If you can't join us in person\, please feel free to join us on livestream at http://stream.abidinggrace.com/
X-ALT-DESC;FMTTYPE=text/html:Join us for worship service on Sundays every week at 8am and 10:30am.&nbsp\; If you can&#39\;t join us in person\, please feel free to join us on livestream at&nbsp\;<a href="http://livestream">http://stream.abidinggrace.com/</a>
LOCATION:Abiding Grace Lutheran Church 5500 Hwy 2112 Covington\, GA 30016
UID:e.1627.12974
SEQUENCE:3
DTSTAMP:20260419T142030Z
URL:https://business.newtonchamber.com/events/details/sunday-worship-services-09-22-2024-12974
END:VEVENT

END:VCALENDAR
