BEGIN:VCALENDAR
VERSION:2.0
PRODID:-//ChamberMaster//Event Calendar 2.0//EN
METHOD:PUBLISH
X-PUBLISHED-TTL:P3D
REFRESH-INTERVAL:P3D
CALSCALE:GREGORIAN
BEGIN:VEVENT
DTSTART;VALUE=DATE:20170429
DTEND;VALUE=DATE:20170501
TRANSP:TRANSPARENT
X-MICROSOFT-CDO-ALLDAYEVENT:TRUE
SUMMARY:Strawberry Festival at Mitcham Farm
DESCRIPTION:Don't miss Mitcham Farm's 4th Annual Strawberry Festival featuring pick-your-own and pre-picked strawberries\, food\, craft vendors\, live music\, and other fun for the whole family!\n\n\n\nDue to growing popularity\, we are expanding the event to two days:\n\n\n\nSaturday\, April 29th (10AM-6PM)\n\nSunday\, April 30th (11AM-4PM)\n\n\n\nLIVE MUSIC:\n\nSaturday (12-3PM): Country River Band - classic country/southern rock\n\nSunday (12-3PM): Lanier Mote - country\, gospel\, & oldies\n\n\n\nOTHER EVENT HIGHLIGHTS:\n\n	Strawberry Picking\n	Pre-Picked Strawberries for Sale\n	Strawberry Slushies\n	Jams & Jellies\n	Boiled Peanuts\n	Cotton Candy\n	Snow Cones\n	Burgers\, Hot Dogs\, and Other Food/Drink for Sale\n	Arts and Crafts Vendors\n	Helicopter Rides\n	Face Painting (by I D-Zign 4 U)\n	Pony Rides (by All American Pony Parade)\n	Giant Jumping Pillow\n	Mountain Slide\n	Pedal Karts\n	Cow Train Rides\n	Tractor Demonstrations\n	Other Activities for Kids\n	and More!\n\n\n\nADMISSION: $2/person\n\n(Fee includes access to play area\, vendors\, picking fields\, and live music)\n\n\n\nSTRAWBERRY PRICES:\n\nPick-Your-Own Strawberries: $12/gallon\n\nPre-Picked Strawberries: $14/gallon\n\nStrawberry Picking Bucket: $1 (plus tax)\n\n\n\nADDITIONAL OPTIONS:\n\nHelicopter Rides: $35/person or $100 for a group of 3\n\nPony Rides: $5/ride\n\nMechanical Bull Rides: $3/ride\n\nFace Painting: $3-5/design\n\nCrafts & Concessions: Prices vary\n\n\n\nStrawberry picking will be open while supply lasts. The farm is located just 30 miles east of downtown Atlanta\, less than 5 miles from Interstate 20. See you soon!\n\n\n\nMORE INFO: www.mitchamfarm.com/strawberry-festival/\n\n\n\nVENDORS: We're looking for arts and crafts vendors. Click on the link below for vendor information and registration: www.mitchamfarm.com/strawberry-festival-vendors
X-ALT-DESC;FMTTYPE=text/html:<span style="color:rgb(0\, 0\, 0)\; font-family:arial\; font-size:11pt">Don&#39\;t miss Mitcham Farm&#39\;s 4th Annual Strawberry Festival featuring pick-your-own and pre-picked strawberries\, food\, craft vendors\, live music\, and other fun for the whole family!</span><br />\n<br />\n<span style="color:rgb(0\, 0\, 0)\; font-family:arial\; font-size:11pt">Due to growing popularity\, we are expanding the event to two days:</span><br />\n<br />\n<span style="color:rgb(0\, 0\, 0)\; font-family:arial\; font-size:11pt">Saturday\, April 29th (10AM-6PM)</span><br />\n<span style="color:rgb(0\, 0\, 0)\; font-family:arial\; font-size:11pt">Sunday\, April 30th (11AM-4PM)</span><br />\n<br />\n<strong><span style="color:rgb(0\, 0\, 0)\; font-family:arial\; font-size:11pt">LIVE MUSIC:</span></strong><br />\n<span style="color:rgb(0\, 0\, 0)\; font-family:arial\; font-size:11pt">Saturday (12-3PM): Country River Band - classic country/southern rock</span><br />\n<span style="color:rgb(0\, 0\, 0)\; font-family:arial\; font-size:11pt">Sunday (12-3PM): Lanier Mote - country\, gospel\, &amp\; oldies</span><br />\n<br />\n<strong><span style="color:rgb(0\, 0\, 0)\; font-family:arial\; font-size:11pt">OTHER EVENT HIGHLIGHTS:</span></strong>\n<ul>\n	<li><span style="color:rgb(0\, 0\, 0)\; font-family:arial\; font-size:11pt">Strawberry Picking</span></li>\n	<li><span style="color:rgb(0\, 0\, 0)\; font-family:arial\; font-size:11pt">Pre-Picked Strawberries for Sale</span></li>\n	<li><span style="color:rgb(0\, 0\, 0)\; font-family:arial\; font-size:11pt">Strawberry Slushies</span></li>\n	<li><span style="color:rgb(0\, 0\, 0)\; font-family:arial\; font-size:11pt">Jams &amp\; Jellies</span></li>\n	<li><span style="color:rgb(0\, 0\, 0)\; font-family:arial\; font-size:11pt">Boiled Peanuts</span></li>\n	<li><span style="color:rgb(0\, 0\, 0)\; font-family:arial\; font-size:11pt">Cotton Candy</span></li>\n	<li><span style="color:rgb(0\, 0\, 0)\; font-family:arial\; font-size:11pt">Snow Cones</span></li>\n	<li><span style="color:rgb(0\, 0\, 0)\; font-family:arial\; font-size:11pt">Burgers\, Hot Dogs\, and Other Food/Drink for Sale</span></li>\n	<li><span style="color:rgb(0\, 0\, 0)\; font-family:arial\; font-size:11pt">Arts and Crafts Vendors</span></li>\n	<li><span style="color:rgb(0\, 0\, 0)\; font-family:arial\; font-size:11pt">Helicopter Rides</span></li>\n	<li><span style="color:rgb(0\, 0\, 0)\; font-family:arial\; font-size:11pt">Face Painting (by I D-Zign 4 U)</span></li>\n	<li><span style="color:rgb(0\, 0\, 0)\; font-family:arial\; font-size:11pt">Pony Rides (by All American Pony Parade)</span></li>\n	<li><span style="color:rgb(0\, 0\, 0)\; font-family:arial\; font-size:11pt">Giant Jumping Pillow</span></li>\n	<li><span style="color:rgb(0\, 0\, 0)\; font-family:arial\; font-size:11pt">Mountain Slide</span></li>\n	<li><span style="color:rgb(0\, 0\, 0)\; font-family:arial\; font-size:11pt">Pedal Karts</span></li>\n	<li><span style="color:rgb(0\, 0\, 0)\; font-family:arial\; font-size:11pt">Cow Train Rides</span></li>\n	<li><span style="color:rgb(0\, 0\, 0)\; font-family:arial\; font-size:11pt">Tractor Demonstrations</span></li>\n	<li><span style="color:rgb(0\, 0\, 0)\; font-family:arial\; font-size:11pt">Other Activities for Kids</span></li>\n	<li><span style="color:rgb(0\, 0\, 0)\; font-family:arial\; font-size:11pt">and More!</span></li>\n</ul>\n<br />\n<span style="color:rgb(0\, 0\, 0)\; font-family:arial\; font-size:11pt">ADMISSION: $2/person</span><br />\n<span style="color:rgb(0\, 0\, 0)\; font-family:arial\; font-size:11pt">(Fee includes access to play area\, vendors\, picking fields\, and live music)</span><br />\n<br />\n<span style="color:rgb(0\, 0\, 0)\; font-family:arial\; font-size:11pt">STRAWBERRY PRICES:</span><br />\n<span style="color:rgb(0\, 0\, 0)\; font-family:arial\; font-size:11pt">Pick-Your-Own Strawberries: $12/gallon</span><br />\n<span style="color:rgb(0\, 0\, 0)\; font-family:arial\; font-size:11pt">Pre-Picked Strawberries: $14/gallon</span><br />\n<span style="color:rgb(0\, 0\, 0)\; font-family:arial\; font-size:11pt">Strawberry Picking Bucket: $1 (plus tax)</span><br />\n<br />\n<span style="color:rgb(0\, 0\, 0)\; font-family:arial\; font-size:11pt">ADDITIONAL OPTIONS:</span><br />\n<span style="color:rgb(0\, 0\, 0)\; font-family:arial\; font-size:11pt">Helicopter Rides: $35/person or $100 for a group of 3</span><br />\n<span style="color:rgb(0\, 0\, 0)\; font-family:arial\; font-size:11pt">Pony Rides: $5/ride</span><br />\n<span style="color:rgb(0\, 0\, 0)\; font-family:arial\; font-size:11pt">Mechanical Bull Rides: $3/ride</span><br />\n<span style="color:rgb(0\, 0\, 0)\; font-family:arial\; font-size:11pt">Face Painting: $3-5/design</span><br />\n<span style="color:rgb(0\, 0\, 0)\; font-family:arial\; font-size:11pt">Crafts &amp\; Concessions: Prices vary</span><br />\n<br />\n<span style="color:rgb(0\, 0\, 0)\; font-family:arial\; font-size:11pt">Strawberry picking will be open while supply lasts. The farm is located just 30 miles east of downtown Atlanta\, less than 5 miles from Interstate 20. See you soon!</span><br />\n<br />\n<span style="color:rgb(0\, 0\, 0)\; font-family:arial\; font-size:11pt">MORE INFO: </span><a href="http://www.mitchamfarm.com/strawberry-festival/" style="text-decoration:none\;"><span style="color:rgb(17\, 85\, 204)\; font-family:arial\; font-size:11pt">www.mitchamfarm.com/</span><u>strawberry-festival/</u></a><br />\n<br />\n<span style="color:rgb(0\, 0\, 0)\; font-family:arial\; font-size:11pt">VENDORS: We&#39\;re looking for arts and crafts vendors. Click on the link below for vendor information and registration:</span><a href="http://www.mitchamfarm.com/strawberry-festival-vendors" style="text-decoration:none\;"><span style="color:rgb(0\, 0\, 0)\; font-family:arial\; font-size:11pt"> </span><span style="color:rgb(17\, 85\, 204)\; font-family:arial\; font-size:11pt">www.mitchamfarm.com/</span><u>strawberry-festival-vendors</u></a>
LOCATION:Mitcham Farm 797 W Macedonia Church Rd Oxford\, GA 30054
UID:e.1627.3786
SEQUENCE:3
DTSTAMP:20260422T074445Z
URL:https://business.newtonchamber.com/events/details/strawberry-festival-at-mitcham-farm-3786
END:VEVENT

END:VCALENDAR
