BEGIN:VCALENDAR
VERSION:2.0
PRODID:-//ChamberMaster//Event Calendar 2.0//EN
METHOD:PUBLISH
X-PUBLISHED-TTL:P3D
REFRESH-INTERVAL:P3D
CALSCALE:GREGORIAN
BEGIN:VEVENT
DTSTART;VALUE=DATE:20190401
DTEND;VALUE=DATE:20190407
TRANSP:TRANSPARENT
X-MICROSOFT-CDO-ALLDAYEVENT:TRUE
SUMMARY:Spring Break Spa Savings
DESCRIPTION:April 1st thru the 6th! 6 Days of Spring Savings at Beauty Bar Med Spa! Appointments available\, or prepay for use at a later date! Save on facials\, body waxing\, microdermabrasion\, foot scrubs\, brow tint and threading!
X-ALT-DESC;FMTTYPE=text/html:April 1st thru the 6th! 6 Days of Spring Savings at Beauty Bar Med Spa! Appointments available\, or prepay for use at a later date! Save on facials\, body waxing\, microdermabrasion\, foot scrubs\, brow tint and threading!&nbsp\;
LOCATION:1109 Floyd St Ne Covington\, Ga
UID:e.1627.7200
SEQUENCE:3
DTSTAMP:20260422T110806Z
URL:https://business.newtonchamber.com/events/details/spring-break-spa-savings-7200
END:VEVENT

END:VCALENDAR
