BEGIN:VCALENDAR
VERSION:2.0
PRODID:-//ChamberMaster//Event Calendar 2.0//EN
METHOD:PUBLISH
X-PUBLISHED-TTL:P3D
REFRESH-INTERVAL:P3D
CALSCALE:GREGORIAN
BEGIN:VEVENT
DTSTART:20181031T140000Z
DTEND:20181031T160000Z
X-MICROSOFT-CDO-ALLDAYEVENT:FALSE
SUMMARY:Spooktacular Meet and Greet
DESCRIPTION:Come in for a bite &\n\nHang around for a spell\n \nJoin us for a complimentary\n\n\n\nMeet and Greet
X-ALT-DESC;FMTTYPE=text/html:<span style="font-family:comic sans ms">Come in for a bite &amp\;<br />\nHang around for a spell</span>\n<p>&nbsp\;</p>\n<span style="font-family:comic sans ms">Join us for a complimentary<br />\n<br />\nMeet and Greet</span><br />\n<br />\n<br />\n<br />\n<br />\n<br />\n&nbsp\;
LOCATION:Connect Hearing 13015 Brown Bridge Rd. Suite #220 Covington\, GA 30016 678-625-4908
UID:e.1627.6841
SEQUENCE:3
DTSTAMP:20260422T204347Z
URL:https://business.newtonchamber.com/events/details/spooktacular-meet-and-greet-6841
END:VEVENT

END:VCALENDAR
