BEGIN:VCALENDAR
VERSION:2.0
PRODID:-//ChamberMaster//Event Calendar 2.0//EN
METHOD:PUBLISH
X-PUBLISHED-TTL:P3D
REFRESH-INTERVAL:P3D
CALSCALE:GREGORIAN
BEGIN:VEVENT
DTSTART:20180504T220000Z
DTEND:20180505T020000Z
X-MICROSOFT-CDO-ALLDAYEVENT:FALSE
SUMMARY:Social Circle Main Street Downtown Draw Down Fundraiser
DESCRIPTION:The Social Circle Main Street Commission is hosting 'Downtown Draw Down through the Decades'. This 'FUN'raiser will be held at the Standridge Color Banquet Facility (Ashley Drive) and will benefit the beautification efforts of Downtown Social Circle. Come dressed as your favorite decade! Pull out those platform shoes\, poodle skirts and tie-dyed shirts and spend the evening with us! Tickets are $100/couple donation and will include a snack supper and 2 drink tickets. A cash bar will be available. For your enjoyment DJ Darrell will be spinning the tunes from the 60s\, 70s\, 80s and on. Doors open at 6:00 and the first name will be pulled at 6:30. If you can't attend but still want a chance at the grand prize\, proxies can be used. ONLY 300 TICKETS WILL BE SOLD. Reverse Lottery. Last one on the wall wins! This is the perfect 'date night' or 'girls night out'  This is where you want to be! \n\nTickets are available from any Main Street Commission member and at the Welcome Center. For more information email vhardy@socialcirclega.com
X-ALT-DESC;FMTTYPE=text/html:<span style="background-color:rgb(255\, 255\, 255)\; color:rgb(75\, 79\, 86)\; font-family:helvetica\,arial\,sans-serif\; font-size:14px">The Social Circle Main Street Commission is hosting &#39\;Downtown Draw Down through the Decades&#39\;. This &#39\;FUN&#39\;raiser will be held at the Standridge Color Banquet Facility (Ashley Drive) and will benefit the beautification efforts of Downtown Social Circle. Come dressed as your favorite decade! Pull out those platform shoes\, poodle skirts and tie-dyed shirts and spend the evening with us! Tickets are $100/couple donation and will include a snack supper and 2 drink tickets. A cash bar will be available. For your enjoyment DJ Darrell will be spinning the tunes from the 60s\, 70s\, 80s and on. Doors open at 6:00 and the first name will be pulled at 6:30. If you can&#39\;t attend but still want a chance at the grand prize\, proxies can be used. ONLY 300 TICKETS WILL BE SOLD. Reverse Lottery. Last one on the wall wins! This is the perfect &#39\;date night&#39\; or &#39\;girls night out&#39\;&nbsp\; This is where you want to be!&nbsp\;</span><br />\n<span style="background-color:rgb(255\, 255\, 255)\; color:rgb(75\, 79\, 86)\; font-family:helvetica\,arial\,sans-serif\; font-size:14px">Tickets are available from any Main Street Commission member and at the Welcome Center. For more information email vhardy@socialcirclega.com</span>
LOCATION:Standridge Color Banquet Facility on Ashley Drive in Social Circle
UID:e.1627.5395
SEQUENCE:3
DTSTAMP:20260423T031446Z
URL:https://business.newtonchamber.com/events/details/social-circle-main-street-downtown-draw-down-fundraiser-5395
END:VEVENT

END:VCALENDAR
