BEGIN:VCALENDAR
VERSION:2.0
PRODID:-//ChamberMaster//Event Calendar 2.0//EN
METHOD:PUBLISH
X-PUBLISHED-TTL:P3D
REFRESH-INTERVAL:P3D
CALSCALE:GREGORIAN
BEGIN:VEVENT
DTSTART:20170119T213000Z
DTEND:20170119T233000Z
X-MICROSOFT-CDO-ALLDAYEVENT:FALSE
SUMMARY:Simply Healthy: Eating for a Balanced Life
DESCRIPTION:Have you ever felt confused or overwhelmed by all of the diets\, supplements and food options available today? Take back your health in this two-hour workshop where you will learn to create nourishing meal combinations with whole foods. Gain confidence to choose health-supportive foods\, led by holistic nutritionist\, Michelle Fletchall. We will close out the workshop with a tour of Farmview Market so you can see first-hand how healthy living can be easy and fun!
X-ALT-DESC;FMTTYPE=text/html:<span style="font-family:calibri\,sans-serif"><span style="font-size:11.0pt">Have you ever felt confused or overwhelmed by all of the diets\, supplements and food options available today? Take back your health in this two-hour workshop where you will learn to create nourishing meal combinations with whole foods. Gain confidence to choose health-supportive foods\, led by holistic nutritionist\, <em><strong>Michelle Fletchall</strong></em>. We will close out the workshop with a tour of Farmview Market so you can see first-hand how healthy living can be easy and fun!&nbsp\;</span></span>
LOCATION:Farmview Market 2610 Eatonton Highway Madison\, GA 30650
UID:e.1627.3741
SEQUENCE:3
DTSTAMP:20260422T030028Z
URL:https://business.newtonchamber.com/events/details/simply-healthy-eating-for-a-balanced-life-3741
END:VEVENT

END:VCALENDAR
