BEGIN:VCALENDAR
VERSION:2.0
PRODID:-//ChamberMaster//Event Calendar 2.0//EN
METHOD:PUBLISH
X-PUBLISHED-TTL:P3D
REFRESH-INTERVAL:P3D
CALSCALE:GREGORIAN
BEGIN:VEVENT
DTSTART:20170114T150000Z
DTEND:20170114T170000Z
X-MICROSOFT-CDO-ALLDAYEVENT:FALSE
SUMMARY:Shape It Up: How to Prune Properly Sessions I & II
DESCRIPTION:Session I (Jan 14): In this introductory course to pruning you will learn simple principles on the fundamentals of pruning and how to produce strong\, healthy and attractive plants. You will also learn about the history of pruning in America.  \n\n\n\nSession II (Jan 28): Put your Session 1 skills to practice as you explore a hands-on lesson focusing on the trees and shrubs surrounding Farmview Market. This workshop will provide practical demonstrations\, and coaching to help increase your comfort and confidence with pruning.\n\n\n\nParticipants are encouraged to bring their own gloves and pruning shears if possible\, but several sets of tools will be available to share. No prior pruning experience necessary.\n\n\n\nThis two-session workshop\, will be led by avid and obsessed Madison gardener\, Cassandre McGowan. Cassandre aspires to teach and encourage others to employ kinder\, gentler\, more informed pruning practices.
X-ALT-DESC;FMTTYPE=text/html:<strong>Session I (Jan 14):</strong> In this introductory course to pruning you will learn simple principles on the fundamentals of pruning and how to produce strong\, healthy and attractive plants. You will also learn about the history of pruning in America. &nbsp\;<br />\n<br />\n<strong>Session II (Jan 28):</strong>&nbsp\;Put your Session 1 skills to practice as you explore a hands-on lesson focusing on the trees and shrubs surrounding Farmview Market. This workshop will provide practical demonstrations\, and coaching to help increase your comfort and confidence with pruning.<br />\n<br />\nParticipants are encouraged to bring their own gloves and pruning shears if possible\, but several sets of tools will be available to share. <em><strong>No prior pruning experience necessary.</strong></em><br />\n<br />\nThis two-session workshop\, will be led by avid and obsessed Madison gardener\, <strong>Cassandre McGowan</strong>. Cassandre aspires to teach and encourage others to employ kinder\, gentler\, more informed pruning practices.<br />\n&nbsp\;<br />\n<br />\n&nbsp\;<br />\n&nbsp\;
LOCATION:Farmview Market 2610 Eatonton Highway Madison\, GA 30650
UID:e.1627.3738
SEQUENCE:3
DTSTAMP:20260422T025928Z
URL:https://business.newtonchamber.com/events/details/shape-it-up-how-to-prune-properly-sessions-i-ii-3738
END:VEVENT

END:VCALENDAR
