BEGIN:VCALENDAR
VERSION:2.0
PRODID:-//ChamberMaster//Event Calendar 2.0//EN
METHOD:PUBLISH
X-PUBLISHED-TTL:P3D
REFRESH-INTERVAL:P3D
CALSCALE:GREGORIAN
BEGIN:VEVENT
DTSTART:20130913T230000Z
DTEND:20130913T230000Z
X-MICROSOFT-CDO-ALLDAYEVENT:FALSE
SUMMARY:Second Friday Summer Concert Series
DESCRIPTION:2nd Friday Summer Concert Series - features Mack McKibben & Drive Time (Rock\, Pop & Jazz)\, sponsored by the Arts Association and Main Street Covington.  770-786-8188 for information
X-ALT-DESC;FMTTYPE=text/html:<span style="font: 13px/normal Arial\, Helvetica\, sans-serif\; color: rgb(66\, 66\, 66)\; text-transform: none\; text-indent: 0px\; letter-spacing: normal\; word-spacing: 0px\; float: none\; display: inline !important\; white-space: normal\; font-size-adjust: none\; font-stretch: normal\; background-color: rgb(255\, 255\, 255)\; -webkit-text-size-adjust: auto\; -webkit-text-stroke-width: 0px\;"><span style="font: 13px/normal Arial\, Helvetica\, sans-serif\; color: rgb(66\, 66\, 66)\; text-transform: none\; text-indent: 0px\; letter-spacing: normal\; word-spacing: 0px\; float: none\; display: inline !important\; white-space: normal\; font-size-adjust: none\; font-stretch: normal\; background-color: rgb(255\, 255\, 255)\; -webkit-text-size-adjust: auto\; -webkit-text-stroke-width: 0px\;"><span style="font: 13px/normal Arial\, Helvetica\, sans-serif\; color: rgb(66\, 66\, 66)\; text-transform: none\; text-indent: 0px\; letter-spacing: normal\; word-spacing: 0px\; float: none\; display: inline !important\; white-space: normal\; font-size-adjust: none\; font-stretch: normal\; background-color: rgb(255\, 255\, 255)\; -webkit-text-size-adjust: auto\; -webkit-text-stroke-width: 0px\;">2nd Friday Summer Concert Series - features Mack McKibben &amp\; Drive Time (Rock\, Pop &amp\; Jazz)\, sponsored by the Arts Association and Main Street Covington.&nbsp\; 770-786-8188 for information</span><span style="display: none\;">&nbsp\;</span></span><span style="display: none\;">&nbsp\;</span></span>
LOCATION:Downtown Covington Square
UID:e.1627.49
SEQUENCE:3
DTSTAMP:20260419T212231Z
URL:https://business.newtonchamber.com/events/details/second-friday-summer-concert-series-09-13-2013-49
END:VEVENT

END:VCALENDAR
