BEGIN:VCALENDAR
VERSION:2.0
PRODID:-//ChamberMaster//Event Calendar 2.0//EN
METHOD:PUBLISH
X-PUBLISHED-TTL:P3D
REFRESH-INTERVAL:P3D
CALSCALE:GREGORIAN
BEGIN:VEVENT
DTSTART:20170118T213000Z
DTEND:20170118T223000Z
X-MICROSOFT-CDO-ALLDAYEVENT:FALSE
SUMMARY:Sausage-Making in the Farmview Butchery with Glen Wellman
DESCRIPTION:Learn our step-by-step process of making sausage blends\, working with different types of casings\, cooking methods\, and more. You will take home 2 lbs. of sausage\, and learn the basics of sausage-making in a very intimate setting. Led by Farmview Market's culinary butcher\, Glen Wellman\, you'll leave with skills you can use in your own kitchen. This workshop will take place in the butchery which is not heated\, so please wear warm clothing and sensible footwear. Minimum age is 18. Class space is limited.
X-ALT-DESC;FMTTYPE=text/html:Learn our step-by-step process of making sausage blends\, working with different types of casings\, cooking methods\, and more. You will take home 2 lbs. of sausage\, and learn the basics of sausage-making in a very intimate setting. Led by Farmview Market&rsquo\;s culinary butcher\, <em><strong>Glen Wellman</strong></em>\, you&rsquo\;ll leave with skills you can use in your own kitchen. This workshop will take place in the butchery which is not heated\, so please wear warm clothing and sensible footwear. Minimum age is 18. Class space is limited. &nbsp\;
LOCATION:Farmview Market 2610 Eatonton Highway Madison\, GA 30650
UID:e.1627.3740
SEQUENCE:3
DTSTAMP:20260422T030115Z
URL:https://business.newtonchamber.com/events/details/sausage-making-in-the-farmview-butchery-with-glen-wellman-3740
END:VEVENT

END:VCALENDAR
