BEGIN:VCALENDAR
VERSION:2.0
PRODID:-//ChamberMaster//Event Calendar 2.0//EN
METHOD:PUBLISH
X-PUBLISHED-TTL:P3D
REFRESH-INTERVAL:P3D
CALSCALE:GREGORIAN
BEGIN:VEVENT
DTSTART;VALUE=DATE:20180707
DTEND;VALUE=DATE:20180708
TRANSP:TRANSPARENT
X-MICROSOFT-CDO-ALLDAYEVENT:TRUE
SUMMARY:Saturday Grillouts
DESCRIPTION:Spring is here! Come out to The Oaks Course\, and enjoy this beautiful weather with us! Grilling out every Saturday until August!
X-ALT-DESC;FMTTYPE=text/html:Spring is here! Come out to The Oaks Course\, and enjoy this beautiful weather with us! Grilling out every Saturday until August!
LOCATION:The Oaks Course 11240 Brown Bridge Road Covington\, GA 30014
UID:e.1627.5614
SEQUENCE:3
DTSTAMP:20260423T015720Z
URL:https://business.newtonchamber.com/events/details/saturday-grillouts-07-07-2018-5614
END:VEVENT

END:VCALENDAR
