BEGIN:VCALENDAR
VERSION:2.0
PRODID:-//ChamberMaster//Event Calendar 2.0//EN
METHOD:PUBLISH
X-PUBLISHED-TTL:P3D
REFRESH-INTERVAL:P3D
CALSCALE:GREGORIAN
BEGIN:VEVENT
DTSTART:20131207T140000Z
DTEND:20131207T200000Z
X-MICROSOFT-CDO-ALLDAYEVENT:FALSE
SUMMARY:Santa's Holiday Gift Faire
DESCRIPTION:The Cotton Boll Quilt Guild will be hosting a Holiday Gift Faire with a wide selection of unique handmade crafts and one of a kind items. Proceeds from the event will be given to a local charity.
X-ALT-DESC;FMTTYPE=text/html:The Cotton Boll Quilt Guild will be hosting a Holiday Gift Faire with a wide selection of unique handmade crafts and one of a kind items. Proceeds from the event will be given to a local charity. 
LOCATION:Epiphany Lutheran Church - 2375 Highway 20 S.E.\, Conyers\, GA 30013
UID:e.1627.85
SEQUENCE:3
DTSTAMP:20260419T170852Z
URL:https://business.newtonchamber.com/events/details/santa-s-holiday-gift-faire-12-07-2013-85
END:VEVENT

END:VCALENDAR
