BEGIN:VCALENDAR
VERSION:2.0
PRODID:-//ChamberMaster//Event Calendar 2.0//EN
METHOD:PUBLISH
X-PUBLISHED-TTL:P3D
REFRESH-INTERVAL:P3D
CALSCALE:GREGORIAN
BEGIN:VEVENT
DTSTART:20190312T210000Z
DTEND:20190312T230000Z
X-MICROSOFT-CDO-ALLDAYEVENT:FALSE
SUMMARY:Sangria Spa Day
DESCRIPTION:No better way to welcome spring then a Sangria Spa Day at Beauty Bar Med Spa! Come join us from 5-7 for a fun filled evening of music\, free mini massages\, and  oxygen lounge sessions! Prepay for your favorite spa services at exclusive event pricing!  Bring your friends\, and afterwards\, get a complimentary drink at our neighbor RL's while they last!  Register for your free ticket below!\n\nhttps://www.eventbrite.com/e/sangria-spa-day-tickets-56594727353
X-ALT-DESC;FMTTYPE=text/html:No better way to welcome spring then a Sangria Spa Day at Beauty Bar Med Spa! Come join us from 5-7 for a fun filled evening of music\, free mini massages\, and&nbsp\; oxygen lounge sessions! Prepay for your favorite spa services at exclusive event pricing!&nbsp\; Bring your friends\, and afterwards\, get a complimentary drink at our neighbor RL&#39\;s while they last!&nbsp\; Register for your free ticket below!<br />\nhttps://www.eventbrite.com/e/sangria-spa-day-tickets-56594727353
LOCATION:Beauty Bar Med Spa 1109 Floyd St NE Covington Ga 30014
UID:e.1627.6913
SEQUENCE:3
DTSTAMP:20260422T133938Z
URL:https://business.newtonchamber.com/events/details/sangria-spa-day-6913
END:VEVENT

END:VCALENDAR
