BEGIN:VCALENDAR
VERSION:2.0
PRODID:-//ChamberMaster//Event Calendar 2.0//EN
METHOD:PUBLISH
X-PUBLISHED-TTL:P3D
REFRESH-INTERVAL:P3D
CALSCALE:GREGORIAN
BEGIN:VEVENT
DTSTART:20191208T210000Z
DTEND:20191208T230000Z
X-MICROSOFT-CDO-ALLDAYEVENT:FALSE
SUMMARY:Sanders Family Christmas Dinner Theater
DESCRIPTION:SANDERS FAMILY CHRISTMAS DINNER THEATER\n\n\n\nDinner will be served during intermission at approximately  5 pm.\n\nMenu: Pasta Bar with various sauces\, garlic bread\, salad\, drink and a variety of desserts\n\n\n\nPLAY SYNOPSIS\n\nIt's December 24\, 1941\, and America is going to war. So is Dennis Sanders\, of the Sanders Family Singers. Join Pastor Mervin Oglethorpe and the rest of the Sanders family as they send Dennis off with hilarious and touching stories and twenty-five Southern Gospel Christmas favorites.
X-ALT-DESC;FMTTYPE=text/html:<strong>SANDERS FAMILY CHRISTMAS DINNER THEATER</strong><br />\n<br />\nDinner will be served during intermission at approximately&nbsp\; 5 pm.<br />\n<strong>Menu:</strong> Pasta Bar with various sauces\, garlic bread\, salad\, drink and a variety of desserts<br />\n<br />\n<strong>PLAY SYNOPSIS</strong><br />\nIt&rsquo\;s December 24\, 1941\, and America is going to war. So is Dennis Sanders\, of the Sanders Family Singers. Join Pastor Mervin Oglethorpe and the rest of the Sanders family as they send Dennis off with hilarious and touching stories and twenty-five Southern Gospel Christmas favorites.
LOCATION:The Church Covington 11975 GA-HWY 142 Oxford\, GA 30054
UID:e.1627.7602
SEQUENCE:3
DTSTAMP:20260420T024259Z
URL:https://business.newtonchamber.com/events/details/sanders-family-christmas-dinner-theater-12-08-2019-7602
END:VEVENT

END:VCALENDAR
