BEGIN:VCALENDAR
VERSION:2.0
PRODID:-//ChamberMaster//Event Calendar 2.0//EN
METHOD:PUBLISH
X-PUBLISHED-TTL:P3D
REFRESH-INTERVAL:P3D
CALSCALE:GREGORIAN
BEGIN:VEVENT
DTSTART:20180901T123000Z
DTEND:20180901T143000Z
X-MICROSOFT-CDO-ALLDAYEVENT:FALSE
SUMMARY:Rise and Shine Dance arty and Yoga at the Porter Memorial Gymnasium
DESCRIPTION:Hosted in the Porter Memorial Gymnasium\, the morning will begin with a relaxing  all levels Yoga class at 8:30 AM followed by a 45 minute Rise and Shine Dance Party at 9:30 AM. The Rise and Shine event will take place\, May   October\, on the first Saturday of the month.\n\nNo need to have any dance moves\, just bring the family\, friends\, colleagues and even your dog Led by instructors from Moxie Fitness\, a partner in Porterdale's wellness initiative\, this self-paced dance work out will be a fun and energizing start to the weekend. There is no charge for children 14 and under\, with the goal of making this a family friendly and affordable exercise option.  Attendees at the yoga sessions will need to bring their own mat and all attendees are encouraged to bring a reusable water bottle.\n\n\n\nTickets for the 6 sessions can be purchased on Eventbrite   participants can chose to participate in the following Yoga ($40)\, Yoga & the Rise and Shine Dance Party ($70) or just the Rise and Shine Dance Party ($40). Individual sessions can be purchased at the door for $8.\n\nStarting\, Saturday May 5 with the first Rise and Shine\, participants get to participate in a one of kind event with all proceeds helping fund the development of further recreation options in the village.\n\nFor further information Village of Porterdale email info@cityofporterdale.com Phone (770) 786-2217
X-ALT-DESC;FMTTYPE=text/html:Hosted in the Porter Memorial Gymnasium\, the morning will begin with a relaxing &nbsp\;all levels Yoga class at 8:30 AM followed by a 45 minute Rise and Shine Dance Party at 9:30 AM. The Rise and Shine event will take place\, May &ndash\; October\, on the first Saturday of the month.<br />\nNo need to have any dance moves\, just bring the family\, friends\, colleagues and even your dog Led by instructors from Moxie Fitness\, a partner in Porterdale&rsquo\;s wellness initiative\, this self-paced dance work out will be a fun and energizing start to the weekend. There is no charge for children 14 and under\, with the goal of making this a family friendly and affordable exercise option. &nbsp\;Attendees at the yoga sessions will need to bring their own mat and all attendees are encouraged to bring a reusable water bottle.<br />\n<br />\nTickets for the 6 sessions can be purchased on Eventbrite &ndash\; participants can chose to participate in the following Yoga ($40)\, Yoga &amp\; the Rise and Shine Dance Party ($70) or just the Rise and Shine Dance Party ($40). Individual sessions can be purchased at the door for $8.<br />\nStarting\, Saturday May 5 with the first Rise and Shine\, participants get to participate in a one of kind event with all proceeds helping fund the development of further recreation options in the village.<br />\nFor further information Village of Porterdale email <a href="mailto:info@cityofporterdale.com">info@cityofporterdale.com</a> Phone (770) 786-2217<br />\n<br />\n&nbsp\;
LOCATION:Porter Memorial Gymnasium - 2201 Main Street Porterdale\, GA 30014
UID:e.1627.6632
SEQUENCE:3
DTSTAMP:20260422T223111Z
URL:https://business.newtonchamber.com/events/details/rise-and-shine-dance-arty-and-yoga-at-the-porter-memorial-gymnasium-09-01-2018-6632
END:VEVENT

END:VCALENDAR
