BEGIN:VCALENDAR
VERSION:2.0
PRODID:-//ChamberMaster//Event Calendar 2.0//EN
METHOD:PUBLISH
X-PUBLISHED-TTL:P3D
REFRESH-INTERVAL:P3D
CALSCALE:GREGORIAN
BEGIN:VEVENT
DTSTART:20180621T140000Z
DTEND:20180621T180000Z
X-MICROSOFT-CDO-ALLDAYEVENT:FALSE
SUMMARY:Right at Home - Open House Hiring Event
DESCRIPTION:Right at Home will be hosting an Open House Hiring Event:\n\nThursday\, June 21\, 2018\n\n10 am to 2 pm\n\nRight at Home Office\n\n2169 Pace Street\,\n\nCovington\, GA 30014.\n\n \n\nApplicants will need to bring the following with: Driver's License Employment Eligibility Doc. (i.e. SS Card\, Passport\, Birth certificate) CNA Card\, training certificates CPR First Aid Card Current TB Screening Results Criminal Records Results (Within the last 30 Days) Motor Vehicle Report (3years back) Proof of Car Insurance Direct Deposit Information (voided check\, or printout from bank)
X-ALT-DESC;FMTTYPE=text/html:<span style="color:#222222"><span style="font-family:verdana\,sans-serif"><span style="font-size:10.0pt">Right at Home will be hosting an Open House Hiring Event:<br />\nThursday\, June 21\, 2018<br />\n10 am to 2 pm<br />\nRight at Home Office<br />\n2169 Pace Street\,<br />\nCovington\, GA 30014.</span></span></span><br />\n&nbsp\;<br />\n<span style="color:#222222"><span style="font-family:verdana\,sans-serif"><span style="font-size:10.0pt">Applicants will need to bring the following with: Driver&rsquo\;s License Employment Eligibility Doc. (i.e. SS Card\, Passport\, Birth certificate) CNA Card\, training certificates CPR First Aid Card Current TB Screening Results Criminal Records Results (Within the last 30 Days) Motor Vehicle Report (3years back) Proof of Car Insurance Direct Deposit Information (voided check\, or printout from bank)&nbsp\;</span></span></span><br />\n&nbsp\;
LOCATION:2169 Pace Street\, Covington\, GA 30014
UID:e.1627.6664
SEQUENCE:3
DTSTAMP:20260423T031900Z
URL:https://business.newtonchamber.com/events/details/right-at-home-open-house-hiring-event-6664
END:VEVENT

END:VCALENDAR
