BEGIN:VCALENDAR
VERSION:2.0
PRODID:-//ChamberMaster//Event Calendar 2.0//EN
METHOD:PUBLISH
X-PUBLISHED-TTL:P3D
REFRESH-INTERVAL:P3D
CALSCALE:GREGORIAN
BEGIN:VEVENT
DTSTART:20180824T140000Z
DTEND:20180824T180000Z
X-MICROSOFT-CDO-ALLDAYEVENT:FALSE
SUMMARY:Right at Home Hiring Event
DESCRIPTION:Right at Home will be hosting an Open House Hiring Event\n\nFriday\, August 24\, 2018\n\n10 am to 2 pm\n\nRight at Home Office\n\n2169 Pace Street\n\nCovington\, GA 30014\n\n\n\n\n\nPlease bring the following with:\n\nDriver's License\n\nEmployment Eligibility Doc. (i.e. SS Card\, Passport\, Birth certificate)\n\nCNA Card\, training certificates\n\nCPR\n\nFirst Aid Card\n\nCurrent TB Screening Results\n\nCriminal Records Results (Within the last 30 Days)\n\nMotor Vehicle Report (3years back)\n\nProof of Car Insurance\n\nDirect Deposit Information (voided check\, or printout from bank)
X-ALT-DESC;FMTTYPE=text/html:Right at Home will be hosting an Open House Hiring Event<br />\nFriday\, August 24\, 2018<br />\n10 am to 2 pm<br />\nRight at Home Office<br />\n2169 Pace Street<br />\nCovington\, GA 30014<br />\n<br />\n<br />\nPlease bring the following with:<br />\nDriver&rsquo\;s License<br />\nEmployment Eligibility Doc. (i.e. SS Card\, Passport\, Birth certificate)<br />\nCNA Card\, training certificates<br />\nCPR<br />\nFirst Aid Card<br />\nCurrent TB Screening Results<br />\nCriminal Records Results (Within the last 30 Days)<br />\nMotor Vehicle Report (3years back)<br />\nProof of Car Insurance<br />\nDirect Deposit Information (voided check\, or printout from bank)
LOCATION:2131 Pace Street\, Covington\, GA 30014
UID:e.1627.6810
SEQUENCE:3
DTSTAMP:20260423T014401Z
URL:https://business.newtonchamber.com/events/details/right-at-home-hiring-event-6810
END:VEVENT

END:VCALENDAR
