BEGIN:VCALENDAR
VERSION:2.0
PRODID:-//ChamberMaster//Event Calendar 2.0//EN
METHOD:PUBLISH
X-PUBLISHED-TTL:P3D
REFRESH-INTERVAL:P3D
CALSCALE:GREGORIAN
BEGIN:VEVENT
DTSTART:20190620T150000Z
DTEND:20190620T160000Z
X-MICROSOFT-CDO-ALLDAYEVENT:FALSE
SUMMARY:RIBBON CUTTING @ YMCA TENNIS COURTS
DESCRIPTION:Join us for a Ribbon Cutting at the new tennis courts at the YMCA!
X-ALT-DESC;FMTTYPE=text/html:Join us for a Ribbon Cutting at the new tennis courts at the YMCA!
LOCATION:2140 Newton Dr NE\, Covington\, GA 30014
UID:e.1627.7243
SEQUENCE:3
DTSTAMP:20260422T082628Z
URL:https://business.newtonchamber.com/events/details/ribbon-cutting-ymca-tennis-courts-7243
END:VEVENT

END:VCALENDAR
