BEGIN:VCALENDAR
VERSION:2.0
PRODID:-//ChamberMaster//Event Calendar 2.0//EN
METHOD:PUBLISH
X-PUBLISHED-TTL:P3D
REFRESH-INTERVAL:P3D
CALSCALE:GREGORIAN
BEGIN:VEVENT
DTSTART:20200528T150000Z
DTEND:20200528T153000Z
X-MICROSOFT-CDO-ALLDAYEVENT:FALSE
SUMMARY:RIBBON CUTTING @ THE SKRIMP SHACK
DESCRIPTION:Join us for a Ribbon Cutting at the Skrimp Shack!
X-ALT-DESC;FMTTYPE=text/html:Join us for a Ribbon Cutting at the Skrimp Shack!
LOCATION:5334 Hwy 20 S Covington\, GA
UID:e.1627.10073
SEQUENCE:3
DTSTAMP:20260420T061120Z
URL:https://business.newtonchamber.com/events/details/ribbon-cutting-the-skrimp-shack-10073
END:VEVENT

END:VCALENDAR
