BEGIN:VCALENDAR
VERSION:2.0
PRODID:-//ChamberMaster//Event Calendar 2.0//EN
METHOD:PUBLISH
X-PUBLISHED-TTL:P3D
REFRESH-INTERVAL:P3D
CALSCALE:GREGORIAN
BEGIN:VEVENT
DTSTART:20190521T150000Z
DTEND:20190521T153000Z
X-MICROSOFT-CDO-ALLDAYEVENT:FALSE
SUMMARY:RIBBON CUTTING--SISTER'S OVERCOMER'S OF GA
DESCRIPTION:RIBBON CUTTING -- SISTER'S OVERCOMERS OF GA\, INC\n\nJoin us as we celebrate with a Ribbon Cutting for Sister's Overcomers of Ga
X-ALT-DESC;FMTTYPE=text/html:RIBBON CUTTING -- SISTER&#39\;S OVERCOMERS OF GA\, INC<br />\nJoin us as we celebrate with a Ribbon Cutting for Sister&#39\;s Overcomers of Ga<br />\n<br />\n<br />\n<br />\n&nbsp\;
LOCATION:2371 ACCESS ROAD\, COVINGTON\, GA 30014
UID:e.1627.7237
SEQUENCE:3
DTSTAMP:20260422T095214Z
URL:https://business.newtonchamber.com/events/details/ribbon-cutting-sister-s-overcomer-s-of-ga-7237
END:VEVENT

END:VCALENDAR
