BEGIN:VCALENDAR
VERSION:2.0
PRODID:-//ChamberMaster//Event Calendar 2.0//EN
METHOD:PUBLISH
X-PUBLISHED-TTL:P3D
REFRESH-INTERVAL:P3D
CALSCALE:GREGORIAN
BEGIN:VEVENT
DTSTART:20170111T040000Z
DTEND:20170111T043000Z
X-MICROSOFT-CDO-ALLDAYEVENT:FALSE
SUMMARY:RIBBON CUTTING--Robert Stephens Farmers Insurance Agency
DESCRIPTION:RIBBON CUTTING
X-ALT-DESC;FMTTYPE=text/html:RIBBON CUTTING&nbsp\;&nbsp\;&nbsp\;&nbsp\;
LOCATION:Robert Stephens Farmer's Insurance Agency 1108 Conyers St. Suite 1W Covington\, GA 30014
UID:e.1627.3737
SEQUENCE:3
DTSTAMP:20260422T030116Z
URL:https://business.newtonchamber.com/events/details/ribbon-cutting-robert-stephens-farmers-insurance-agency-3737
END:VEVENT

END:VCALENDAR
