BEGIN:VCALENDAR
VERSION:2.0
PRODID:-//ChamberMaster//Event Calendar 2.0//EN
METHOD:PUBLISH
X-PUBLISHED-TTL:P3D
REFRESH-INTERVAL:P3D
CALSCALE:GREGORIAN
BEGIN:VEVENT
DTSTART:20190606T220000Z
DTEND:20190606T230000Z
X-MICROSOFT-CDO-ALLDAYEVENT:FALSE
SUMMARY:RIBBON CUTTING @ RECREATION DEPARTMENT
DESCRIPTION:Join us for a Ribbon Cutting for the new Cardio Fitness Studio at the Recreation Department at Turner Lake!
X-ALT-DESC;FMTTYPE=text/html:Join us for a Ribbon Cutting for the new Cardio Fitness Studio at the Recreation Department at Turner Lake!
LOCATION:185 Turner Lake Rd NW\, Covington\, GA 30014
UID:e.1627.7241
SEQUENCE:3
DTSTAMP:20260422T082707Z
URL:https://business.newtonchamber.com/events/details/ribbon-cutting-recreation-department-7241
END:VEVENT

END:VCALENDAR
