BEGIN:VCALENDAR
VERSION:2.0
PRODID:-//ChamberMaster//Event Calendar 2.0//EN
METHOD:PUBLISH
X-PUBLISHED-TTL:P3D
REFRESH-INTERVAL:P3D
CALSCALE:GREGORIAN
BEGIN:VEVENT
DTSTART:20230302T160000Z
DTEND:20230302T170000Z
X-MICROSOFT-CDO-ALLDAYEVENT:FALSE
SUMMARY:RIBBON CUTTING @ KWIK CHANGE
DESCRIPTION:Join us for a ribbon cutting as we celebrate the grand "new' opening of Kwik Change!!
X-ALT-DESC;FMTTYPE=text/html:Join us for a ribbon cutting as we celebrate the grand &quot\;new&#39\; opening of Kwik Change!!&nbsp\;
LOCATION:10557 GA 36\, Covington 678-658-6388
UID:e.1627.11649
SEQUENCE:3
DTSTAMP:20260420T083204Z
URL:https://business.newtonchamber.com/events/details/ribbon-cutting-kwik-change-11649
END:VEVENT

END:VCALENDAR
